BEGIN:VCALENDAR
VERSION:2.0
PRODID:-//SJASCE - ECPv6.15.20//NONSGML v1.0//EN
CALSCALE:GREGORIAN
METHOD:PUBLISH
X-WR-CALNAME:SJASCE
X-ORIGINAL-URL:https://sjasce.org
X-WR-CALDESC:Events for SJASCE
REFRESH-INTERVAL;VALUE=DURATION:PT1H
X-Robots-Tag:noindex
X-PUBLISHED-TTL:PT1H
BEGIN:VTIMEZONE
TZID:America/New_York
BEGIN:DAYLIGHT
TZOFFSETFROM:-0500
TZOFFSETTO:-0400
TZNAME:EDT
DTSTART:20250309T070000
END:DAYLIGHT
BEGIN:STANDARD
TZOFFSETFROM:-0400
TZOFFSETTO:-0500
TZNAME:EST
DTSTART:20251102T060000
END:STANDARD
BEGIN:DAYLIGHT
TZOFFSETFROM:-0500
TZOFFSETTO:-0400
TZNAME:EDT
DTSTART:20260308T070000
END:DAYLIGHT
BEGIN:STANDARD
TZOFFSETFROM:-0400
TZOFFSETTO:-0500
TZNAME:EST
DTSTART:20261101T060000
END:STANDARD
BEGIN:DAYLIGHT
TZOFFSETFROM:-0500
TZOFFSETTO:-0400
TZNAME:EDT
DTSTART:20270314T070000
END:DAYLIGHT
BEGIN:STANDARD
TZOFFSETFROM:-0400
TZOFFSETTO:-0500
TZNAME:EST
DTSTART:20271107T060000
END:STANDARD
END:VTIMEZONE
BEGIN:VEVENT
DTSTART;TZID=America/New_York:20260422T180000
DTEND;TZID=America/New_York:20260422T203000
DTSTAMP:20260424T121211
CREATED:20260329T164405Z
LAST-MODIFIED:20260416T164936Z
UID:8262-1776880800-1776889800@sjasce.org
SUMMARY:Edelman Fossil Park & Mantua Boulevard Extension - Presented by Stantec
DESCRIPTION:Join SJASCE on Wednesday\, April 22nd\, 2026\, for an evening dedicated to the engineering and development of the Mantua Blvd Extension (CR 676) roadway to the new Edelman Fossil Park & Museum of Rowan University. This featured project\, presented and sponsored by Stantec along with Earth Engineering Inc.\, represents a unique integration of world-class cultural design and essential infrastructure. \nProject Overview \nThe presentation will delve into the history of the project site\, which includes the new Edelman Fossil Park & Museum\, a stunning facility perched on the edge of a prehistoric quarry. Attendees will gain insight into how the Mantua Blvd Extension was engineered to provide critical access to this landmark destination\, creating a seamless connection between the public and one of the most significant paleontological sites in the world. \nSchedule of Events \n6:00 PM – Check-In and Networking \n6:30 PM – Dinner \n7:00 PM – Presentation \nCost \nASCE Member – $55 \nNon-Member – $65 \nGovernment Employee – $30 \nStudent – Free \nPayment \nPayment is accepted via online through our website (credit card\, Venmo\, or Paypal) or by check. Checks should be made payable to South Jersey ASCE. Mail checks to: \nATTN: Kati DiRaimondo \nStantec \n10000 Midlantic Drive \nSuite 300W \nMount Laurel\, New Jersey 08054 \nChecks must be postmarked and mailed prior to the event. Checks will be accepted at check-in. SJASCE reserves the right to assess a late fee of $10 if payment is not received prior to the event.  SJASCE reserves the right to deny registration to future events for attendees who hold a negative balance with SJASCE. \nRegistration closes on March 13th\, 2026. Space permitting\, any registrations received after the deadline will be charged the full Non-Member Rate. We cannot guarantee registration to the event after the registration period closes. Registration to events is first come\, first served unless stated otherwise. \nDietary Restrictions \nSJASCE is committed to creating a welcoming and inclusive environment for all members and attendees. Participants with dietary restrictions are encouraged to contact us after registering\, and no later than the registration deadline. Requests received after the deadline cannot be guaranteed.
URL:https://sjasce.org/event/edelman-fossil-park-mantua-boulevard-extension-presented-by-stantec/
LOCATION:Riverwinds Restaurant\, 1075 Riverwinds Drive\, West Deptford\, NJ\, 08086\, United States
ATTACH;FMTTYPE=image/png:https://sjasce.org/wp-content/uploads/2026/03/20260422_Stantec-Fossil-Park.png
END:VEVENT
END:VCALENDAR