BEGIN:VCALENDAR
VERSION:2.0
PRODID:-//SJASCE - ECPv6.15.20//NONSGML v1.0//EN
CALSCALE:GREGORIAN
METHOD:PUBLISH
X-WR-CALNAME:SJASCE
X-ORIGINAL-URL:https://sjasce.org
X-WR-CALDESC:Events for SJASCE
REFRESH-INTERVAL;VALUE=DURATION:PT1H
X-Robots-Tag:noindex
X-PUBLISHED-TTL:PT1H
BEGIN:VTIMEZONE
TZID:America/New_York
BEGIN:DAYLIGHT
TZOFFSETFROM:-0500
TZOFFSETTO:-0400
TZNAME:EDT
DTSTART:20250309T070000
END:DAYLIGHT
BEGIN:STANDARD
TZOFFSETFROM:-0400
TZOFFSETTO:-0500
TZNAME:EST
DTSTART:20251102T060000
END:STANDARD
BEGIN:DAYLIGHT
TZOFFSETFROM:-0500
TZOFFSETTO:-0400
TZNAME:EDT
DTSTART:20260308T070000
END:DAYLIGHT
BEGIN:STANDARD
TZOFFSETFROM:-0400
TZOFFSETTO:-0500
TZNAME:EST
DTSTART:20261101T060000
END:STANDARD
BEGIN:DAYLIGHT
TZOFFSETFROM:-0500
TZOFFSETTO:-0400
TZNAME:EDT
DTSTART:20270314T070000
END:DAYLIGHT
BEGIN:STANDARD
TZOFFSETFROM:-0400
TZOFFSETTO:-0500
TZNAME:EST
DTSTART:20271107T060000
END:STANDARD
END:VTIMEZONE
BEGIN:VEVENT
DTSTART;TZID=America/New_York:20260424T180000
DTEND;TZID=America/New_York:20260424T200000
DTSTAMP:20260424T120914
CREATED:20260329T173845Z
LAST-MODIFIED:20260329T173845Z
UID:8270-1777053600-1777060800@sjasce.org
SUMMARY:YMF & Rowan ASCE Happy Hour at Bonesaw Brewing Co.
DESCRIPTION:Join SJASCE YMF and Rowan University ASCE for a joint happy hour at Bonesaw Brewing Co. on Friday\, April 24th starting at 6:00 PM. During the happy hour\, SJASCE will be presenting Rowan ASCE’s graduating officers with ASCE Stoles. Food will be provided by SJASCE. Attendance is free\, guests are welcome\, and you do not need to be a member of SJASCE to attend! Please RSVP using the link below so we have an accurate head count for food.
URL:https://sjasce.org/event/ymf-rowan-asce-happy-hour-at-bonesaw-brewing-co/
LOCATION:Bonesaw Brewing Co.\, 570 Mullica Hill Road\, Glassboro\, NJ\, 08028\, United States
ATTACH;FMTTYPE=image/png:https://sjasce.org/wp-content/uploads/2026/03/20260424_YMF-Rowan-Happy-Hour.png
END:VEVENT
END:VCALENDAR