BEGIN:VCALENDAR
VERSION:2.0
PRODID:-//SJASCE - ECPv6.15.20//NONSGML v1.0//EN
CALSCALE:GREGORIAN
METHOD:PUBLISH
X-WR-CALNAME:SJASCE
X-ORIGINAL-URL:https://sjasce.org
X-WR-CALDESC:Events for SJASCE
REFRESH-INTERVAL;VALUE=DURATION:PT1H
X-Robots-Tag:noindex
X-PUBLISHED-TTL:PT1H
BEGIN:VTIMEZONE
TZID:America/New_York
BEGIN:DAYLIGHT
TZOFFSETFROM:-0500
TZOFFSETTO:-0400
TZNAME:EDT
DTSTART:20250309T070000
END:DAYLIGHT
BEGIN:STANDARD
TZOFFSETFROM:-0400
TZOFFSETTO:-0500
TZNAME:EST
DTSTART:20251102T060000
END:STANDARD
BEGIN:DAYLIGHT
TZOFFSETFROM:-0500
TZOFFSETTO:-0400
TZNAME:EDT
DTSTART:20260308T070000
END:DAYLIGHT
BEGIN:STANDARD
TZOFFSETFROM:-0400
TZOFFSETTO:-0500
TZNAME:EST
DTSTART:20261101T060000
END:STANDARD
BEGIN:DAYLIGHT
TZOFFSETFROM:-0500
TZOFFSETTO:-0400
TZNAME:EDT
DTSTART:20270314T070000
END:DAYLIGHT
BEGIN:STANDARD
TZOFFSETFROM:-0400
TZOFFSETTO:-0500
TZNAME:EST
DTSTART:20271107T060000
END:STANDARD
END:VTIMEZONE
BEGIN:VEVENT
DTSTART;TZID=America/New_York:20260428T163000
DTEND;TZID=America/New_York:20260428T210000
DTSTAMP:20260424T122025
CREATED:20260312T023951Z
LAST-MODIFIED:20260329T181858Z
UID:8242-1777393800-1777410000@sjasce.org
SUMMARY:YMF Tailgate & Phillies Game
DESCRIPTION:Join SJASCE YMF for an afternoon of tailgating and networking before heading into the ballpark to watch the Philadelphia Phillies take on the San Francisco Giants. Connect with fellow young professionals\, enjoy great company\, and cheer on the Phillies together for a fun day at the game! Friends & family welcome & encouraged! \nSchedule of Events \n4:30 PM – Tailgate Begins \n6:40 PM – First Pitch \nCost \nTailgate + Game Ticket – $30 \n*Tailgate Only – $10 \n*For those with season tickets or upgraded tickets to the game. \nSponsorships \nEvent Sponsor – $250 \nPayment \nPayment is accepted via online through our website (credit card\, Venmo\, or Paypal) or by check. Checks should be made payable to South Jersey ASCE. Mail checks to: \nATTN: Kati DiRaimondo \nStantec \n10000 Midlantic Drive \nSuite 300W \nMount Laurel\, New Jersey 08054 \nChecks must be postmarked and mailed prior to the event. Checks will be accepted at check-in. SJASCE reserves the right to assess a late fee of $10 if payment is not received prior to the event.  SJASCE reserves the right to deny registration to future events for attendees who hold a negative balance with SJASCE. \nRegistration closes on April 16th\, 2026. Space permitting\, any registrations received after the deadline will be charged the full Non-Member Rate. We cannot guarantee registration to the event after the registration period closes. Registration to events is first come\, first served unless stated otherwise. \nDietary Restrictions \nSJASCE is committed to creating a welcoming and inclusive environment for all members and attendees. Participants with dietary restrictions are encouraged to contact us after registering\, and no later than the registration deadline. Requests received after the deadline cannot be guaranteed.
URL:https://sjasce.org/event/ymf-tailgate-phillies-game/
LOCATION:NJ
CATEGORIES:YMF
ATTACH;FMTTYPE=image/png:https://sjasce.org/wp-content/uploads/2026/03/20260428_SJASCE-YMF-Phillies-1.png
END:VEVENT
END:VCALENDAR